BEGIN:VCALENDAR
VERSION:2.0
PRODID:-//North Carolina Plein Air Art Festival in New Bern - ECPv6.15.20//NONSGML v1.0//EN
CALSCALE:GREGORIAN
METHOD:PUBLISH
X-WR-CALNAME:North Carolina Plein Air Art Festival in New Bern
X-ORIGINAL-URL:https://ncpleinair.org
X-WR-CALDESC:Events for North Carolina Plein Air Art Festival in New Bern
REFRESH-INTERVAL;VALUE=DURATION:PT1H
X-Robots-Tag:noindex
X-PUBLISHED-TTL:PT1H
BEGIN:VTIMEZONE
TZID:America/New_York
BEGIN:DAYLIGHT
TZOFFSETFROM:-0500
TZOFFSETTO:-0400
TZNAME:EDT
DTSTART:20250309T070000
END:DAYLIGHT
BEGIN:STANDARD
TZOFFSETFROM:-0400
TZOFFSETTO:-0500
TZNAME:EST
DTSTART:20251102T060000
END:STANDARD
BEGIN:DAYLIGHT
TZOFFSETFROM:-0500
TZOFFSETTO:-0400
TZNAME:EDT
DTSTART:20260308T070000
END:DAYLIGHT
BEGIN:STANDARD
TZOFFSETFROM:-0400
TZOFFSETTO:-0500
TZNAME:EST
DTSTART:20261101T060000
END:STANDARD
BEGIN:DAYLIGHT
TZOFFSETFROM:-0500
TZOFFSETTO:-0400
TZNAME:EDT
DTSTART:20270314T070000
END:DAYLIGHT
BEGIN:STANDARD
TZOFFSETFROM:-0400
TZOFFSETTO:-0500
TZNAME:EST
DTSTART:20271107T060000
END:STANDARD
END:VTIMEZONE
BEGIN:VEVENT
DTSTART;TZID=America/New_York:20260512T083000
DTEND;TZID=America/New_York:20260514T130000
DTSTAMP:20260420T063039
CREATED:20251224T121709Z
LAST-MODIFIED:20260329T174210Z
UID:10000890-1778574600-1778763600@ncpleinair.org
SUMMARY:John T. Eiseman - MENTORED PLEIN AIR EXPERIENCE
DESCRIPTION:Paint alongside. Learn deeply. See differently.\nMay 12\, 13 & 14\, 2026 \nWith decades of experience as a professional artist and a distinguished history in plein air painting\, award-winning painter John T. Eiseman offers a rare opportunity to engage in a mentored\, immersive plein air experience. A graduate of the Maryland Institute College of Art (Magna Cum Laude\, 1981)\, John has painted since his teens\, earned numerous awards\, and been featured in major national exhibitions.. \nThis experience begins with one demonstration by John\, setting the tone and shared visual language for the days ahead. From there\, the focus shifts away from formal instruction and toward painting alongside the mentor—working on location together in an environment that encourages observation\, experimentation\, and personal growth. \nOver three full plein air sessions across two days (morning and afternoon)\, participants will develop multiple paintings while receiving individualized guidance. John works one-on-one with each artist\, meeting them at their current level and responding to their specific needs\, questions\, and goals. Rather than prescribing a single approach\, he helps artists learn how to truly look\, how to translate observation into mark-making\, value\, and color—and how to tell their own unique story through painting. \nThe experience concludes on Thursday morning with a gallery talk and group critique\, offering thoughtful feedback and introducing the shared language of art in a supportive\, conversational setting. \nDesigned for both beginning and advanced painters\, this mentored experience invites artists to bring their own plein air setup and preferred media. The emphasis is not on producing finished works\, but on deepening perception\, strengthening visual confidence\, and developing an authentic artistic voice. \n ” Painting is not just the celebration of vision but\, rather a quest for experience. In this sense\, my painting is not a recording of facts seen. It is the process of interpreting a fleeting muse.” \nMay 12\, 13 & 14\, 2026\nFULL TUITION – $300\nRESERVE TODAY WITH $100 DEPOSIT\nTerms & Conditions of NC Plein Air Workshops \n\nFOR MORE DETAILS OF WORKSHOP
URL:https://ncpleinair.org/event/john-t-eiseman-mentored-plein-air-experience/
LOCATION:New Bern Farmer’s Market\, 421 S Front Street\, New Bern\, NC\, 28560\, United States
CATEGORIES:Adult Workshop & Mentoring
ATTACH;FMTTYPE=image/jpeg:https://ncpleinair.org/wp-content/uploads/Eiseman.Ducks-Creek-Morning-300-dpi-adj.jpg
END:VEVENT
END:VCALENDAR