BEGIN:VCALENDAR
VERSION:2.0
PRODID:-//North Carolina Plein Air Art Festival in New Bern - ECPv6.15.20//NONSGML v1.0//EN
CALSCALE:GREGORIAN
METHOD:PUBLISH
X-WR-CALNAME:North Carolina Plein Air Art Festival in New Bern
X-ORIGINAL-URL:https://ncpleinair.org
X-WR-CALDESC:Events for North Carolina Plein Air Art Festival in New Bern
REFRESH-INTERVAL;VALUE=DURATION:PT1H
X-Robots-Tag:noindex
X-PUBLISHED-TTL:PT1H
BEGIN:VTIMEZONE
TZID:America/New_York
BEGIN:DAYLIGHT
TZOFFSETFROM:-0500
TZOFFSETTO:-0400
TZNAME:EDT
DTSTART:20250309T070000
END:DAYLIGHT
BEGIN:STANDARD
TZOFFSETFROM:-0400
TZOFFSETTO:-0500
TZNAME:EST
DTSTART:20251102T060000
END:STANDARD
BEGIN:DAYLIGHT
TZOFFSETFROM:-0500
TZOFFSETTO:-0400
TZNAME:EDT
DTSTART:20260308T070000
END:DAYLIGHT
BEGIN:STANDARD
TZOFFSETFROM:-0400
TZOFFSETTO:-0500
TZNAME:EST
DTSTART:20261101T060000
END:STANDARD
BEGIN:DAYLIGHT
TZOFFSETFROM:-0500
TZOFFSETTO:-0400
TZNAME:EDT
DTSTART:20270314T070000
END:DAYLIGHT
BEGIN:STANDARD
TZOFFSETFROM:-0400
TZOFFSETTO:-0500
TZNAME:EST
DTSTART:20271107T060000
END:STANDARD
END:VTIMEZONE
BEGIN:VEVENT
DTSTART;TZID=America/New_York:20260515T093000
DTEND;TZID=America/New_York:20260515T113000
DTSTAMP:20260420T062115
CREATED:20260208T204939Z
LAST-MODIFIED:20260210T173508Z
UID:10000984-1778837400-1778844600@ncpleinair.org
SUMMARY:Oleg Shvets demonstrates in Beaufort - Crayden Paul Park - view of Taylor Creek and Carrot Island
DESCRIPTION:Watch Art Happen — Live! \nOleg Shvets creates an original work of art live and in full view. \nBring a hat\, sunscreen\, and a lawn chair\, and enjoy a front-row seat as the artwork comes to life from start to finish. \nMeet the artist\, ask questions\, and experience the creative process up close. \nARTIST SHORT BIO\nBorn in Kazakhstan and growing up in Crimea\, surrounded by the Black Sea\, Oleg started taking art classes in the local Palace of Culture at 11. Graduated as a Theater Stage Director\, inclined toward stage decorating and design. He was deeply influenced by Russian Realism of XIX century\, especially the masterpieces of Shishkin\, Levitan\, and Aivazovsky. Oleg started participating in various plein-air events in 2020 as a non-juried artist.\nAccomplishments:\n2024\, North Carolina Plein Air Art Festival Quick Draw Open Division – 1st Place\nPaint It Ellicott City 2025\, 1st Place Gino Award and Sponsor Award by AARP of Maryland.
URL:https://ncpleinair.org/event/oleg-shvets-shvets-demonstrates-in-beaufort-crayden-paul-park-view-of-taylor-creek-and-carrot-island-2/
CATEGORIES:Beaufort|Demos,Demos
ATTACH;FMTTYPE=image/jpeg:https://ncpleinair.org/wp-content/uploads/Oleg-Shvets.jpg
END:VEVENT
END:VCALENDAR