BEGIN:VCALENDAR
VERSION:2.0
PRODID:-//North Carolina Plein Air Art Festival in New Bern - ECPv6.15.20//NONSGML v1.0//EN
CALSCALE:GREGORIAN
METHOD:PUBLISH
X-ORIGINAL-URL:https://ncpleinair.org
X-WR-CALDESC:Events for North Carolina Plein Air Art Festival in New Bern
REFRESH-INTERVAL;VALUE=DURATION:PT1H
X-Robots-Tag:noindex
X-PUBLISHED-TTL:PT1H
BEGIN:VTIMEZONE
TZID:America/New_York
BEGIN:DAYLIGHT
TZOFFSETFROM:-0500
TZOFFSETTO:-0400
TZNAME:EDT
DTSTART:20250309T070000
END:DAYLIGHT
BEGIN:STANDARD
TZOFFSETFROM:-0400
TZOFFSETTO:-0500
TZNAME:EST
DTSTART:20251102T060000
END:STANDARD
BEGIN:DAYLIGHT
TZOFFSETFROM:-0500
TZOFFSETTO:-0400
TZNAME:EDT
DTSTART:20260308T070000
END:DAYLIGHT
BEGIN:STANDARD
TZOFFSETFROM:-0400
TZOFFSETTO:-0500
TZNAME:EST
DTSTART:20261101T060000
END:STANDARD
BEGIN:DAYLIGHT
TZOFFSETFROM:-0500
TZOFFSETTO:-0400
TZNAME:EDT
DTSTART:20270314T070000
END:DAYLIGHT
BEGIN:STANDARD
TZOFFSETFROM:-0400
TZOFFSETTO:-0500
TZNAME:EST
DTSTART:20271107T060000
END:STANDARD
END:VTIMEZONE
BEGIN:VEVENT
DTSTART;TZID=America/New_York:20260511T063000
DTEND;TZID=America/New_York:20260511T213000
DTSTAMP:20260420T064311
CREATED:20260124T220652Z
LAST-MODIFIED:20260124T220652Z
UID:10000900-1778481000-1778535000@ncpleinair.org
SUMMARY:Featured Artists painting NEW BERN & CRAVEN COUNTY
DESCRIPTION:Locate artists in the field with the En Plein Air Artists locator app – Free download in both Google Play Store and Apple Apps. \n \n  \nGrab your hat\, sunscreen\, (or umbrella) along with a lawn chair and watch in real time the creative process from the beginning to the end.  Rub shoulders with the featured artists as they demonstrate their painting approach and techniques for those in attendance. Rain or shine.
URL:https://ncpleinair.org/event/featured-artists-painting-new-bern-craven-county/
CATEGORIES:Demos|General|New Bern|zap trigger
ATTACH;FMTTYPE=image/png:https://ncpleinair.org/wp-content/uploads/call-to-action-horizontal-1-1.png
END:VEVENT
BEGIN:VEVENT
DTSTART;TZID=America/New_York:20260512T083000
DTEND;TZID=America/New_York:20260512T183000
DTSTAMP:20260420T064311
CREATED:20260125T191355Z
LAST-MODIFIED:20260125T191355Z
UID:10000926-1778574600-1778610600@ncpleinair.org
SUMMARY:Featured Artists painting New Bern & Oriental
DESCRIPTION:Locate artists in the field with the En Plein Air Artists locator app – Free download in both Google Play Store and Apple Apps. \n \n  \nGrab your hat\, sunscreen\, (or umbrella) along with a lawn chair and watch in real time the creative process from the beginning to the end.  Rub shoulders with the featured artists as they demonstrate their painting approach and techniques for those in attendance. Rain or shine.
URL:https://ncpleinair.org/event/featured-artists-painting-new-bern-oriental-2/
CATEGORIES:Demos|General|New Bern|zap trigger
ATTACH;FMTTYPE=image/png:https://ncpleinair.org/wp-content/uploads/call-to-action-horizontal-1-1.png
END:VEVENT
BEGIN:VEVENT
DTSTART;TZID=America/New_York:20260512T190000
DTEND;TZID=America/New_York:20260512T210000
DTSTAMP:20260420T064311
CREATED:20260125T182323Z
LAST-MODIFIED:20260210T181641Z
UID:10000923-1778612400-1778619600@ncpleinair.org
SUMMARY:Rokhaya Waring demonstrates in New Bern - Grand Marina behind the Double Tree Hotel
DESCRIPTION:Watch Art Happen — Live! \nRokhaya Waring creates an original work of art live and in full view. \nBring a hat\, sunscreen\, and a lawn chair\, and enjoy a front-row seat as the artwork comes to life from start to finish. \nMeet the artist\, ask questions\, and experience the creative process up close. \nARTIST SHORT BIO\nMy French mother taught me that getting out of one’s comfort zone and cultivating curiosity translated into a great education and an even more fascinating childhood- as was her own growing up in the jungles of Africa. She taught me how to draw- or how to see. As a homeschooler\, daily sketching from life\, reading French poetry\, playing the violin\, raising goats\, snakes\, eating exotic foods and camping across America are some of the colorful experiences that shaped the painter I am today.
URL:https://ncpleinair.org/event/rokhaya-waring-waring-demonstrates-in-new-bern-grand-marina-behind-the-double-tree-hotel/
LOCATION:Grand Marina – behind the DoubleTree
CATEGORIES:Demos|General|New Bern|zap trigger
ATTACH;FMTTYPE=image/jpeg:https://ncpleinair.org/wp-content/uploads/nc-plein-air-2023-artist-Rokhaya-Waring-12-1.jpg
END:VEVENT
BEGIN:VEVENT
DTSTART;TZID=America/New_York:20260514T083000
DTEND;TZID=America/New_York:20260514T183000
DTSTAMP:20260420T064311
CREATED:20260125T191356Z
LAST-MODIFIED:20260125T191356Z
UID:10000927-1778747400-1778783400@ncpleinair.org
SUMMARY:Featured Artists painting New Bern & Beaufort (Craven & Carteret counties)
DESCRIPTION:Locate artists in the field with the En Plein Air Artists locator app – Free download in both Google Play Store and Apple Apps. \n \n  \nGrab your hat\, sunscreen\, (or umbrella) along with a lawn chair and watch in real time the creative process from the beginning to the end.  Rub shoulders with the featured artists as they demonstrate their painting approach and techniques for those in attendance. Rain or shine.
URL:https://ncpleinair.org/event/featured-artists-painting-new-bern-beaufort-craven-carteret-counties-2/
CATEGORIES:Demos|General|New Bern|zap trigger
ATTACH;FMTTYPE=image/png:https://ncpleinair.org/wp-content/uploads/call-to-action-horizontal-1-1.png
END:VEVENT
BEGIN:VEVENT
DTSTART;TZID=America/New_York:20260515T110000
DTEND;TZID=America/New_York:20260515T130000
DTSTAMP:20260420T064311
CREATED:20260208T205151Z
LAST-MODIFIED:20260210T173331Z
UID:10000987-1778842800-1778850000@ncpleinair.org
SUMMARY:Adam Houston demonstrates in New Bern - Historic Architecture on corner of Queen St. and Front St.
DESCRIPTION:Watch Art Happen — Live! \nAdam Houston creates an original work of art live and in full view. \nBring a hat\, sunscreen\, and a lawn chair\, and enjoy a front-row seat as the artwork comes to life from start to finish. \nMeet the artist\, ask questions\, and experience the creative process up close. \nARTIST SHORT BIO\nAdam Houston is an Athens\, Georgia–based artist specializing in Contemporary Impressionism. Working primarily in oils\, he creates both studio and plein air paintings inspired by the Southern landscape. After earning a BFA in Art from the University of Georgia\, Adam spent 25 years in graphic design before transitioning to full-time painting in 2026. His work reflects the influence of Impressionist masters\, focusing on light\, color\, and atmosphere to create an emotional connection to place. An associate member of the American Impressionist Society\, Adam actively participates in Plein Air events and the regional art community throughout the Southeast.
URL:https://ncpleinair.org/event/adam-houston-houston-demonstrates-in-new-bern-historic-architecture-on-corner-of-queen-st-and-front-st-2/
CATEGORIES:Demos,Demos|General|New Bern|zap trigger,New Bern
ATTACH;FMTTYPE=image/jpeg:https://ncpleinair.org/wp-content/uploads/houston_shape_of_land_1.jpg
END:VEVENT
END:VCALENDAR